BEGIN:VCALENDAR
VERSION:2.0
PRODID:-//Wandelclub Roal Benti vzw - ECPv6.5.0//NONSGML v1.0//EN
CALSCALE:GREGORIAN
METHOD:PUBLISH
X-ORIGINAL-URL:https://www.wandelclubroalbenti.be
X-WR-CALDESC:Evenementen voor Wandelclub Roal Benti vzw
REFRESH-INTERVAL;VALUE=DURATION:PT1H
X-Robots-Tag:noindex
X-PUBLISHED-TTL:PT1H
BEGIN:VTIMEZONE
TZID:Europe/Amsterdam
BEGIN:DAYLIGHT
TZOFFSETFROM:+0100
TZOFFSETTO:+0200
TZNAME:CEST
DTSTART:20260329T010000
END:DAYLIGHT
BEGIN:STANDARD
TZOFFSETFROM:+0200
TZOFFSETTO:+0100
TZNAME:CET
DTSTART:20261025T010000
END:STANDARD
END:VTIMEZONE
BEGIN:VEVENT
DTSTART;TZID=Europe/Amsterdam:20260509T070000
DTEND;TZID=Europe/Amsterdam:20260509T200000
DTSTAMP:20260426T041957
CREATED:20251023T092703Z
LAST-MODIFIED:20251023T143030Z
UID:5819-1778310000-1778356800@www.wandelclubroalbenti.be
SUMMARY:Zaterdag 9 mei 2026 - Busreis naar Vijlen
DESCRIPTION:Wandelclub Jo-Ne uit Vlijmen organiseert op zaterdag 9 mei 2026  haar mei wandeling. \nMen kan wandelen in een heuvelachtig landschap met prachtige vergezichten en in een bosrijke omgeving. Nijlen is het gezelligste wandeldorp van Nederland. De afstanden die men kan wandelen zijn : 6\, 10\, 15 en 20 km.                                                                                                                                                                                                                                                        Opstappen in Eeklo te 07.00 uur en te Bentille te 07.10 uur. \nDe kostprijs is  12 €  voor leden en 17 €voor niet leden.
URL:https://www.wandelclubroalbenti.be/activiteit/zaterdag-9-mei-2026-busreis-naar-vijlen/
LOCATION:Vijlen\, Vijlenberg 151\, Vijlen\, Limburg\, 6294AV\, Nederland
CATEGORIES:Busreis
ATTACH;FMTTYPE=image/jpeg:https://www.wandelclubroalbenti.be/wp-content/uploads/2023/08/Bus-Robby.jpg
ORGANIZER;CN="Roal Benti VZW":MAILTO:stebenti@hotmail.com
END:VEVENT
BEGIN:VEVENT
DTSTART;TZID=Europe/Amsterdam:20260705T070000
DTEND;TZID=Europe/Amsterdam:20260705T190000
DTSTAMP:20260426T041957
CREATED:20251023T094355Z
LAST-MODIFIED:20251023T142430Z
UID:5839-1783234800-1783278000@www.wandelclubroalbenti.be
SUMMARY:Zondag 5 juli 2026 busreis naar Overijse.
DESCRIPTION:Wandelclub IJsetrippers organiseert op zondag 5 juli 2026 haar zomerwandeltocht in het Zonienwoud. De start is in Jezus-Eik (Overijse) aan de rand van het Zoniënwoud. Wandeling bijna volledig in het Zoniënwoud\, erkend als UNESCO Werelderfgoed. Ontdek ook het Arboretum en de Koninklijke Schenking. 3 totaal verschillende wandellussen.                                                              Afstanden die men kan wandelen zijn 4\, 7\, 14 en 21 km. \nDe kostprijs is  12 €  voor leden en 17 €voor niet leden.
URL:https://www.wandelclubroalbenti.be/activiteit/zondag-5-juli-2026-busreis-naar-overijse/
LOCATION:Overijse\, Witherendreef 1\, Overijse\, Vlaams-Brabant\, 3090\, België
CATEGORIES:Busreis
ATTACH;FMTTYPE=image/jpeg:https://www.wandelclubroalbenti.be/wp-content/uploads/2023/08/Bus-Robby.jpg
ORGANIZER;CN="Roal Benti VZW":MAILTO:stebenti@hotmail.com
END:VEVENT
BEGIN:VEVENT
DTSTART;TZID=Europe/Amsterdam:20260906T073000
DTEND;TZID=Europe/Amsterdam:20260906T170000
DTSTAMP:20260426T041957
CREATED:20251023T131552Z
LAST-MODIFIED:20251026T120950Z
UID:5855-1788679800-1788714000@www.wandelclubroalbenti.be
SUMMARY:Zondag 6 september 2026 busreis naar Vorselaar.
DESCRIPTION:Kasteel Borrekens.De Bosgeuzen-Voorkempen VZW houdt op zondag 6 september 2026 haar Laat zomertocht. \nGevarieerde zomertocht in bosrijke en landelijke omgeving met een maximum aan onverharde paden. Je verkent het prachtige natuurgebied Lovenhoek via tal van ‘sluisjes’\, plankenpaden en bruggetjes. Ook kasteeldomein de Borrekens staat op het programma. \nMen kan 4\, 7\, 10\, 14\, 18 en 22 km wandelen.\n\nKostprijs is  12 €  voor leden en 17 €voor niet leden.
URL:https://www.wandelclubroalbenti.be/activiteit/zondag-6-september-2026-busreis-naar-vorselaar/
LOCATION:Vorselaar\, Kerkstraat 17\, Vorselaar\, Antwerpen\, 2290\, België
CATEGORIES:Busreis
ATTACH;FMTTYPE=image/jpeg:https://www.wandelclubroalbenti.be/wp-content/uploads/2025/10/1000c-scaled.jpg
ORGANIZER;CN="Roal Benti VZW":MAILTO:stebenti@hotmail.com
END:VEVENT
BEGIN:VEVENT
DTSTART;TZID=Europe/Amsterdam:20261018T070000
DTEND;TZID=Europe/Amsterdam:20261018T190000
DTSTAMP:20260426T041957
CREATED:20251023T134955Z
LAST-MODIFIED:20251023T141842Z
UID:5864-1792306800-1792350000@www.wandelclubroalbenti.be
SUMMARY:Zondag 18 oktober 2026 - Busreis naar Passendale + Saint-Germain diner
DESCRIPTION:Op zondag 18 0ktober 2026 organiseert wandelclub de Drevestappers uit Zonnebeke haar 9e wandeling rondom het kaasdorp Passendale. \nAfstanden zijn  5\, 10\, 12\, 15 en 20 km. \nNa de wandeling ( tijstip zal door Stefaan gegeven worden) rijden we naar Diksmuide – Sant-Germain voor  het  diner . \nOpstappen te Eeklo\, Kon.Astridplein 1  om 07\,00 uur.Opstappen te Bentille om 07\,10 uur.                                                                                                                                                                  Kostprijs is  96\,00 €  voor leden
URL:https://www.wandelclubroalbenti.be/activiteit/zondag-18-oktober-2026-busreis-naar-passendale-saint-germain-diner/
LOCATION:Passendale\, Kraaiveldstraat 7\, Passendale\, West Vlaanderen\, 8980
CATEGORIES:Busreis,Wandeltocht gevolgd door diner
ATTACH;FMTTYPE=image/jpeg:https://www.wandelclubroalbenti.be/wp-content/uploads/2023/08/Bus-Robby.jpg
ORGANIZER;CN="Roal Benti VZW":MAILTO:stebenti@hotmail.com
END:VEVENT
BEGIN:VEVENT
DTSTART;TZID=Europe/Amsterdam:20261213T073000
DTEND;TZID=Europe/Amsterdam:20261213T170000
DTSTAMP:20260426T041957
CREATED:20251023T140010Z
LAST-MODIFIED:20251023T140422Z
UID:5868-1797147000-1797181200@www.wandelclubroalbenti.be
SUMMARY:Zondag 13 december 2026 busreis naar St.Lenaarts.
DESCRIPTION:Wandelclub St.Michielstappers Brecht organiseert op zondag 13 december 2026 haar Smoutbollentocht te Sint-Lenaarts. \nHet is een winterse wandeling met oog voor de Brechtse natuur. Zij hebben ruime\,verzorgde rustposten. Een mooie afsluiter van onze dag busreizen 2026. \nMen kan 4\, 7\, 11\, 14\, 18 en 22 km wandelen.\n\nKostprijs is  12 €  voor leden en 17 €voor niet leden.
URL:https://www.wandelclubroalbenti.be/activiteit/zondag-13-december-2026-busreis-naar-st-lenaarts/
LOCATION:Sint leenaarts\, Oude Veldstraat 4\, Sint-Lenaarts\, Antwerpen\, 2960\, België
CATEGORIES:Busreis
ATTACH;FMTTYPE=image/jpeg:https://www.wandelclubroalbenti.be/wp-content/uploads/2023/08/Bus-Robby.jpg
ORGANIZER;CN="Roal Benti VZW":MAILTO:stebenti@hotmail.com
END:VEVENT
END:VCALENDAR